BEGIN:VCALENDAR
VERSION:2.0
PRODID:-//Rivanna Conservation Alliance - ECPv6.15.17.1//NONSGML v1.0//EN
CALSCALE:GREGORIAN
METHOD:PUBLISH
X-WR-CALNAME:Rivanna Conservation Alliance
X-ORIGINAL-URL:https://www.rivannariver.org
X-WR-CALDESC:Events for Rivanna Conservation Alliance
REFRESH-INTERVAL;VALUE=DURATION:PT1H
X-Robots-Tag:noindex
X-PUBLISHED-TTL:PT1H
BEGIN:VTIMEZONE
TZID:America/New_York
BEGIN:DAYLIGHT
TZOFFSETFROM:-0500
TZOFFSETTO:-0400
TZNAME:EDT
DTSTART:20140309T070000
END:DAYLIGHT
BEGIN:STANDARD
TZOFFSETFROM:-0400
TZOFFSETTO:-0500
TZNAME:EST
DTSTART:20141102T060000
END:STANDARD
BEGIN:DAYLIGHT
TZOFFSETFROM:-0500
TZOFFSETTO:-0400
TZNAME:EDT
DTSTART:20150308T070000
END:DAYLIGHT
BEGIN:STANDARD
TZOFFSETFROM:-0400
TZOFFSETTO:-0500
TZNAME:EST
DTSTART:20151101T060000
END:STANDARD
BEGIN:DAYLIGHT
TZOFFSETFROM:-0500
TZOFFSETTO:-0400
TZNAME:EDT
DTSTART:20160313T070000
END:DAYLIGHT
BEGIN:STANDARD
TZOFFSETFROM:-0400
TZOFFSETTO:-0500
TZNAME:EST
DTSTART:20161106T060000
END:STANDARD
BEGIN:DAYLIGHT
TZOFFSETFROM:-0500
TZOFFSETTO:-0400
TZNAME:EDT
DTSTART:20170312T070000
END:DAYLIGHT
BEGIN:STANDARD
TZOFFSETFROM:-0400
TZOFFSETTO:-0500
TZNAME:EST
DTSTART:20171105T060000
END:STANDARD
BEGIN:DAYLIGHT
TZOFFSETFROM:-0500
TZOFFSETTO:-0400
TZNAME:EDT
DTSTART:20180311T070000
END:DAYLIGHT
BEGIN:STANDARD
TZOFFSETFROM:-0400
TZOFFSETTO:-0500
TZNAME:EST
DTSTART:20181104T060000
END:STANDARD
BEGIN:DAYLIGHT
TZOFFSETFROM:-0500
TZOFFSETTO:-0400
TZNAME:EDT
DTSTART:20190310T070000
END:DAYLIGHT
BEGIN:STANDARD
TZOFFSETFROM:-0400
TZOFFSETTO:-0500
TZNAME:EST
DTSTART:20191103T060000
END:STANDARD
BEGIN:DAYLIGHT
TZOFFSETFROM:-0500
TZOFFSETTO:-0400
TZNAME:EDT
DTSTART:20200308T070000
END:DAYLIGHT
BEGIN:STANDARD
TZOFFSETFROM:-0400
TZOFFSETTO:-0500
TZNAME:EST
DTSTART:20201101T060000
END:STANDARD
END:VTIMEZONE
BEGIN:VEVENT
DTSTART;TZID=America/New_York:20190927T093000
DTEND;TZID=America/New_York:20190927T110000
DTSTAMP:20260419T222353
CREATED:20190829T155144Z
LAST-MODIFIED:20190829T155144Z
UID:3402-1569576600-1569582000@www.rivannariver.org
SUMMARY:Rivanna River Renaissance Conference
DESCRIPTION:The annual Rivanna River Basin Commission (RRBC) Conference will be Friday morning\, September 27\, 9-11:30 am. \nConference attendees will gather in Lane Auditorium in the Albemarle County Office Building. The invitation is attached. \nThe topic is about storm water\, and particularly the Before the Storm report each jurisdiction received more than a decade ago. \nPlease come yourself to describe or designate a staff person to represent your County\, City on the Conference Panel. The goal is to learn from others and craft a way forward. \nTopics include: \n\nHow has your jurisdiction used the information presented in the Before the Storm report of 2008-09 ?\nWere there any changes to ordinance or procedure adopted based on controlling and reducing runoff into our river?\nWere any of the suggestions not possible or workable?\nHow could an updated Before the Storm assist your jurisdiction?\n\nAfter the morning session and lunch from a food truck\, all are invited to a ceremonial float on the Rivanna (weather and water level permitting) from the newly opened rustic boat launch at Brookhill River Park\, just below the South Fork Rivanna Reservoir Dam. \nPullouts can be arranged for Darden Towe park or farther south. \nWe look forward to seeing many faces\, both new and familiar. All are welcome\, but please RSVP.
URL:https://www.rivannariver.org/event/rivanna-river-renaissance-conference-3/
LOCATION:Lane Auditorium\, Albemarle County Office Building\, 401 McIntire Road\, Charlottesville\, 22902
CATEGORIES:Conference,Meeting,Paddle/Float
END:VEVENT
BEGIN:VEVENT
DTSTART;TZID=America/New_York:20160909T120000
DTEND;TZID=America/New_York:20160909T150000
DTSTAMP:20260419T222353
CREATED:20160815T174533Z
LAST-MODIFIED:20160815T174533Z
UID:1933-1473422400-1473433200@www.rivannariver.org
SUMMARY:Virginia Environmental Assembly Paddle
DESCRIPTION:As part of the Viginia Conservation Network’s Virgnia Environmental Assembly at the University of Virginia\, RCA and the Rivanna River Company will be teaming up to guide a paddle on the Rivanna River. The assembly will bring together conservation leaders from across Virginia and provide a forum for discussion on key environmental issues and an opportunity to strategize with like-minded individuals about the best ways to tackle threats to our natural environment. \nFor more information on the Virginia Environmental Assembly please visit: www.vcnva.org/virginia-environmental-assembly
URL:https://www.rivannariver.org/event/virginia-environmental-assembly-paddle/
CATEGORIES:Conference
ATTACH;FMTTYPE=image/jpeg:https://www.rivannariver.org/wp-content/uploads/2016/01/Rivanna-Paddlers.jpg
END:VEVENT
BEGIN:VEVENT
DTSTART;TZID=America/New_York:20151002T080000
DTEND;TZID=America/New_York:20151002T170000
DTSTAMP:20260419T222353
CREATED:20150904T195948Z
LAST-MODIFIED:20150927T164840Z
UID:848-1443772800-1443805200@www.rivannariver.org
SUMMARY:Rivanna Renaissance Conference
DESCRIPTION:Lane Auditorium\, Albemarle County Office Building\n401 McIntire Road\, Charlottesville VA 22902 \nFor more information visit https://rivannariverbasin.org/meeting-RRRC-100215.php
URL:https://www.rivannariver.org/event/rivanna-renaissance-conference/
LOCATION:Lane Auditorium\, Albemarle County Office Building\, 401 McIntire Road\, Charlottesville\, 22902
CATEGORIES:Conference
END:VEVENT
END:VCALENDAR