BEGIN:VCALENDAR
VERSION:2.0
PRODID:-//Rivanna Conservation Alliance - ECPv6.15.17.1//NONSGML v1.0//EN
CALSCALE:GREGORIAN
METHOD:PUBLISH
X-ORIGINAL-URL:https://www.rivannariver.org
X-WR-CALDESC:Events for Rivanna Conservation Alliance
REFRESH-INTERVAL;VALUE=DURATION:PT1H
X-Robots-Tag:noindex
X-PUBLISHED-TTL:PT1H
BEGIN:VTIMEZONE
TZID:America/New_York
BEGIN:DAYLIGHT
TZOFFSETFROM:-0500
TZOFFSETTO:-0400
TZNAME:EDT
DTSTART:20180311T070000
END:DAYLIGHT
BEGIN:STANDARD
TZOFFSETFROM:-0400
TZOFFSETTO:-0500
TZNAME:EST
DTSTART:20181104T060000
END:STANDARD
BEGIN:DAYLIGHT
TZOFFSETFROM:-0500
TZOFFSETTO:-0400
TZNAME:EDT
DTSTART:20190310T070000
END:DAYLIGHT
BEGIN:STANDARD
TZOFFSETFROM:-0400
TZOFFSETTO:-0500
TZNAME:EST
DTSTART:20191103T060000
END:STANDARD
BEGIN:DAYLIGHT
TZOFFSETFROM:-0500
TZOFFSETTO:-0400
TZNAME:EDT
DTSTART:20200308T070000
END:DAYLIGHT
BEGIN:STANDARD
TZOFFSETFROM:-0400
TZOFFSETTO:-0500
TZNAME:EST
DTSTART:20201101T060000
END:STANDARD
END:VTIMEZONE
BEGIN:VEVENT
DTSTART;TZID=America/New_York:20190209T084500
DTEND;TZID=America/New_York:20190209T120000
DTSTAMP:20260422T030349
CREATED:20190122T202927Z
LAST-MODIFIED:20190208T155135Z
UID:2981-1549701900-1549713600@www.rivannariver.org
SUMMARY:Volunteer Event: Vine Cutting along the Rivanna River
DESCRIPTION:Help RCA and the City of Charlottesville clear invasive vines that damage native vegetation and block views of the Rivanna River. \nMeet at the RCA office (1150 River Road) at 8:45 am and we will walk to the Rivanna River Trail at 9:00 am. Wear work clothes and close-toed shoes. \nRSVP to: exec@rivannariver.org \nLooking forward to seeing you there!
URL:https://www.rivannariver.org/event/volunteer-event-vine-cutting-along-the-rivanna-river/
LOCATION:RCA Office\, 1150 River Rd\, Suite 1\, Charlottesville\, VA\, 22901-4110\, United States
CATEGORIES:Cleanup,Invasive Plant Removal
END:VEVENT
END:VCALENDAR