BEGIN:VCALENDAR
VERSION:2.0
PRODID:-//Rivanna Conservation Alliance - ECPv6.15.17.1//NONSGML v1.0//EN
CALSCALE:GREGORIAN
METHOD:PUBLISH
X-WR-CALNAME:Rivanna Conservation Alliance
X-ORIGINAL-URL:https://www.rivannariver.org
X-WR-CALDESC:Events for Rivanna Conservation Alliance
REFRESH-INTERVAL;VALUE=DURATION:PT1H
X-Robots-Tag:noindex
X-PUBLISHED-TTL:PT1H
BEGIN:VTIMEZONE
TZID:America/New_York
BEGIN:DAYLIGHT
TZOFFSETFROM:-0500
TZOFFSETTO:-0400
TZNAME:EDT
DTSTART:20140309T070000
END:DAYLIGHT
BEGIN:STANDARD
TZOFFSETFROM:-0400
TZOFFSETTO:-0500
TZNAME:EST
DTSTART:20141102T060000
END:STANDARD
BEGIN:DAYLIGHT
TZOFFSETFROM:-0500
TZOFFSETTO:-0400
TZNAME:EDT
DTSTART:20150308T070000
END:DAYLIGHT
BEGIN:STANDARD
TZOFFSETFROM:-0400
TZOFFSETTO:-0500
TZNAME:EST
DTSTART:20151101T060000
END:STANDARD
BEGIN:DAYLIGHT
TZOFFSETFROM:-0500
TZOFFSETTO:-0400
TZNAME:EDT
DTSTART:20160313T070000
END:DAYLIGHT
BEGIN:STANDARD
TZOFFSETFROM:-0400
TZOFFSETTO:-0500
TZNAME:EST
DTSTART:20161106T060000
END:STANDARD
BEGIN:DAYLIGHT
TZOFFSETFROM:-0500
TZOFFSETTO:-0400
TZNAME:EDT
DTSTART:20170312T070000
END:DAYLIGHT
BEGIN:STANDARD
TZOFFSETFROM:-0400
TZOFFSETTO:-0500
TZNAME:EST
DTSTART:20171105T060000
END:STANDARD
END:VTIMEZONE
BEGIN:VEVENT
DTSTART;TZID=America/New_York:20160904T174500
DTEND;TZID=America/New_York:20160904T213000
DTSTAMP:20260421T125101
CREATED:20160815T165256Z
LAST-MODIFIED:20160815T165256Z
UID:1930-1473011100-1473024600@www.rivannariver.org
SUMMARY:Pavilion "Flume" Concert Volunteering
DESCRIPTION:RCA will be volunteer staffing the beverage carts at the “Flume” concert under the Sprint Pavilion on the Downtown Mall. If you will be attending the concert please stop by a beverage cart to grab a drink and chat with RCA volunteers and staff. RCA volunteers for these concert events to raise money for RCA programs. If you would like to help work one of the beverage carts and help support our organization please email Justin Altice as soon as possible: justinaltice@rivannariver.org
URL:https://www.rivannariver.org/event/pavilion-flume-concert-volunteering/
LOCATION:Sprint Pavilion\, 700 E Main St\, Charlottesville\, VA\, 22902\, United States
CATEGORIES:Special Event
ATTACH;FMTTYPE=image/jpeg:https://www.rivannariver.org/wp-content/uploads/2016/08/Flume-Pavilion-Cville.jpg
END:VEVENT
BEGIN:VEVENT
DTSTART;TZID=America/New_York:20160819T173000
DTEND;TZID=America/New_York:20160819T203000
DTSTAMP:20260421T125101
CREATED:20160815T161210Z
LAST-MODIFIED:20160815T164126Z
UID:1926-1471627800-1471638600@www.rivannariver.org
SUMMARY:RCA Volunteering at Fridays after Five
DESCRIPTION:RCA will be volunteer staffing the beverage carts at the Fridays after Five Concert starring “The Currys”. Come out to listen to free music and chat with RCA volunteers and staff. \nIf you would like to help work one of the beverage carts please email Justin Altice as soon as possible: justinaltice@rivannariver.org
URL:https://www.rivannariver.org/event/rca-volunteering-at-fridays-after-five/
LOCATION:Sprint Pavilion\, 700 E Main St\, Charlottesville\, VA\, 22902\, United States
CATEGORIES:Special Event
ATTACH;FMTTYPE=image/jpeg:https://www.rivannariver.org/wp-content/uploads/2016/08/The-Currys-After-5.jpg
END:VEVENT
BEGIN:VEVENT
DTSTART;TZID=America/New_York:20160507T090000
DTEND;TZID=America/New_York:20160507T160000
DTSTAMP:20260421T125101
CREATED:20160304T173231Z
LAST-MODIFIED:20160304T173231Z
UID:1763-1462611600-1462636800@www.rivannariver.org
SUMMARY:Old Farm Day
DESCRIPTION:     This year marks the 20th Annual Old Farm Day back with a new focus on  spring planting and new growth and new activities to add to the fun. Organizers have added some new activities to the 20th-anniversary event. In addition to the traditional displays of historic equipment\, demonstrations by heritage craftspeople\, entertainment and activities for kids\, this year’s Old Farm Day will include a parade\, and expanded entertainment programming with a Church Choir Relay and performances by local bands.\n\n     Old Farm Day will also include displays from community churches and organizations\, contests\, and great food with more than 100 local vendors and exhibitors. It’s not just a great chance to meet up with friends and have a good time\, it’s also an opportunity to learn a little about the agricultural history of this lovely county\, and maybe buy a homemade craft or two.\n\nAdmission: Adults $5 · Children 12 & under FREE\nProceeds benefit the Fluvanna Historical Society\n& building of the Farm Heritage Museum\n\nFor more information visit https://oldfarmday.org/index.html
URL:https://www.rivannariver.org/event/old-farm-day-2/
LOCATION:Pleasant Grove\, Route 53\, Palmyra\, VA\, 22963\, United States
CATEGORIES:Special Event
END:VEVENT
BEGIN:VEVENT
DTSTART;TZID=America/New_York:20160424T110000
DTEND;TZID=America/New_York:20160424T170000
DTSTAMP:20260421T125101
CREATED:20160304T170647Z
LAST-MODIFIED:20160304T170659Z
UID:1740-1461495600-1461517200@www.rivannariver.org
SUMMARY:Charlottesville Earth Week Eco Fair
DESCRIPTION:The Eco Fair brings local communities together in ways that promote awareness of the value of the natural world and encourage the public to learn about the environment\, with the goal of creating strong\, engaged stewardship that lasts into the future. \nFor more information visit the event website www.earthweek.org
URL:https://www.rivannariver.org/event/charlottesville-earth-week-eco-fair/
LOCATION:Downtown Mall & Pavillion\, Charlottesville\, VA\, 22902\, United States
CATEGORIES:Special Event
END:VEVENT
BEGIN:VEVENT
DTSTART;VALUE=DATE:20160422
DTEND;VALUE=DATE:20160424
DTSTAMP:20260421T125101
CREATED:20160101T172531Z
LAST-MODIFIED:20160315T144228Z
UID:1569-1461283200-1461455999@www.rivannariver.org
SUMMARY:2016 Earth Day Events
DESCRIPTION:Locations throughout the watershed
URL:https://www.rivannariver.org/event/2016-earth-day-events/
LOCATION:VA
CATEGORIES:Special Event
END:VEVENT
BEGIN:VEVENT
DTSTART;VALUE=DATE:20160322
DTEND;VALUE=DATE:20160323
DTSTAMP:20260421T125101
CREATED:20160101T172304Z
LAST-MODIFIED:20160101T172304Z
UID:1568-1458604800-1458691199@www.rivannariver.org
SUMMARY:World Water Day Events
DESCRIPTION:All day\nVenues throughout the City and U.Va. Grounds
URL:https://www.rivannariver.org/event/world-water-day-events/
LOCATION:VA
CATEGORIES:Special Event
END:VEVENT
BEGIN:VEVENT
DTSTART;VALUE=DATE:20160320
DTEND;VALUE=DATE:20160321
DTSTAMP:20260421T125101
CREATED:20160303T222059Z
LAST-MODIFIED:20160304T165505Z
UID:1730-1458432000-1458518399@www.rivannariver.org
SUMMARY:Cville Fix a Leak 5k
DESCRIPTION:Click here for more information and registration or follow this link: https://www.charlottesville.org/waterconservation
URL:https://www.rivannariver.org/event/cville-fix-a-leak-day/
LOCATION:Pen Park\, 1400 Pen Park Rd\, Charlottesville\, VA\, 22901\, United States
CATEGORIES:Special Event
END:VEVENT
BEGIN:VEVENT
DTSTART;TZID=America/New_York:20160122T160000
DTEND;TZID=America/New_York:20160122T180000
DTSTAMP:20260421T125101
CREATED:20160101T172030Z
LAST-MODIFIED:20160121T170552Z
UID:1567-1453478400-1453485600@www.rivannariver.org
SUMMARY:Postponed Due to Weather- Celebration Party
DESCRIPTION:Shebeen Pub\nwww.shebeen.com
URL:https://www.rivannariver.org/event/celebration-party-for-the-rivanna-conservation-alliance/
LOCATION:VA
CATEGORIES:Special Event
END:VEVENT
BEGIN:VEVENT
DTSTART;TZID=America/New_York:20151015T170000
DTEND;TZID=America/New_York:20151015T173000
DTSTAMP:20260421T125101
CREATED:20150904T200650Z
LAST-MODIFIED:20150927T164637Z
UID:852-1444928400-1444930200@www.rivannariver.org
SUMMARY:Groundbreaking - Scheier Environmental Education Pavilion
DESCRIPTION:Come join RCS for the realization of a dream.  Meet at the Scheier Natural Area\, 917 Long Acre\, Palmyra\, VA 22963.   Light refreshment to follow the initiation of construction of the new Education Pavilion… \n 
URL:https://www.rivannariver.org/event/groundbreaking-scheier-environmental-education-center/
LOCATION:VA
CATEGORIES:Special Event
END:VEVENT
BEGIN:VEVENT
DTSTART;TZID=America/New_York:20151003T100000
DTEND;TZID=America/New_York:20151003T120000
DTSTAMP:20260421T125101
CREATED:20150904T200312Z
LAST-MODIFIED:20150927T164722Z
UID:850-1443866400-1443873600@www.rivannariver.org
SUMMARY:Free Community Events
DESCRIPTION:RCS\, and a number of local partners\, are hosting a series of Free Community Events from 10-noon at Darden Towe Park. \n• Learn To Kayak • Learn To Monitor Water Quality • Learn To Swim • Learn About Trails• Learn To Fly Fish • Boats and Butterflies            • Learn To Kayak.  For more details and to register log on to  https://www.surveymonkey.com/r/LLDF7TG
URL:https://www.rivannariver.org/event/river-paddle/
LOCATION:Darden Towe Park\, 1445 Darden Towe Park Road\, Charlottesville\, VA
CATEGORIES:Special Event
END:VEVENT
BEGIN:VEVENT
DTSTART;TZID=America/New_York:20151003T090000
DTEND;TZID=America/New_York:20151003T150000
DTSTAMP:20260421T125101
CREATED:20150831T201803Z
LAST-MODIFIED:20150927T164805Z
UID:834-1443862800-1443884400@www.rivannariver.org
SUMMARY:Old Farm Day
DESCRIPTION:Come share in the fun at Old Farm Day at Pleasant Grove in Fluvanna County – and of course stop by the RCS Exhibit!
URL:https://www.rivannariver.org/event/old-farm-day/
LOCATION:Pleasant Grove\, Route 53\, Palmyra\, VA\, 22963\, United States
CATEGORIES:Special Event
END:VEVENT
END:VCALENDAR